BEGIN:VCALENDAR
VERSION:2.0
PRODID:-//Carib Housing - ECPv6.15.18//NONSGML v1.0//EN
CALSCALE:GREGORIAN
METHOD:PUBLISH
X-WR-CALNAME:Carib Housing
X-ORIGINAL-URL:https://caribhousing.com
X-WR-CALDESC:Events for Carib Housing
REFRESH-INTERVAL;VALUE=DURATION:PT1H
X-Robots-Tag:noindex
X-PUBLISHED-TTL:PT1H
BEGIN:VTIMEZONE
TZID:UTC
BEGIN:STANDARD
TZOFFSETFROM:+0000
TZOFFSETTO:+0000
TZNAME:UTC
DTSTART:20220101T000000
END:STANDARD
END:VTIMEZONE
BEGIN:VEVENT
DTSTART;TZID=UTC:20230121T090000
DTEND;TZID=UTC:20230121T150000
DTSTAMP:20260422T132902
CREATED:20200217T094407Z
LAST-MODIFIED:20220222T115015Z
UID:2374-1674291600-1674313200@caribhousing.com
SUMMARY:Grow Your Own Food with Aquaponics
DESCRIPTION:Growing plants without using soil and growing fish at the same time..this is called aquaponics. \nAquaponics” combines growing plants in water (hydroponics) with fish farming (aquaculture). It is an interplay process that has its roots in Asian agricultural practices dating back thousands of years. When used properly\, aquaponics can increase local food production and make communities more resilient – ​​all without causing pollution or using scarce resources\, such as oil. \nIn a few square meters you can grow a large bundle of vegetables by keeping fish whose fish droppings and urine are used as fertilizer. No soil is needed. The plants do not shoot roots in the ground but in substrate material and as they grow into the air the water is purified and the water flows back to the fish. Learn to build an aquaponics system and start growing vegetables\, herbs\, fruits and fish. \nDay: Saturday\nLocation: Sint Maarten\nTime: 9.00am – 3.00pm\nOccupancy: 4 persons\nCosts: $145 p.p.\nLunch included.
URL:https://caribhousing.com/event/choosing-the-right-apartment-seminar/
LOCATION:Vicky’s Keys Volunteer Center\, The Keys road 8\, Lane 3\, Sucker Garden\, Upper Prince's Quarter\, Sint Maarten DWI\, Sucker Garden\, Sint Maarten
CATEGORIES:Workshop St. Maarten
ATTACH;FMTTYPE=image/jpeg:https://caribhousing.com/wp-content/uploads/2020/02/single-ibc-active.jpeg
ORGANIZER;CN="Stichting Marlin Yard":MAILTO:info@marlinyard.org
END:VEVENT
BEGIN:VEVENT
DTSTART;TZID=UTC:20230115T090000
DTEND;TZID=UTC:20230115T150000
DTSTAMP:20260422T132902
CREATED:20200217T094748Z
LAST-MODIFIED:20220222T113800Z
UID:2384-1673773200-1673794800@caribhousing.com
SUMMARY:Workshop Plan-C\, design your container home
DESCRIPTION:Start planning for your container home.\nThis workshop is a successor of “Workshop Orientation – Build Your Own Container House”. This is for people who want to literally develop their idea into a Plan of Approach for building their shipping container house or business location. We give workshops in how to modify shipping containers into homes and or business accommodations with applicable construction techniques and sustainable building materials. \nDay: Sunday\nLocation: Sint Maarten\nTime: 9.00am – 3.00pm\nOccupancy: 4 persons\nCosts: $190 p.p.\nLunch included. \nCan’t wait to start your container house? Register for this workshop that we provide at our location. Group size max. 4 people.
URL:https://caribhousing.com/event/how-to-decorate-your-office/
LOCATION:Hoom Street Workshop\, Stuifweg 68\, Oosterend\, Noord-Holland\, 1794HC\, Netherlands
CATEGORIES:Workshop St. Maarten
ATTACH;FMTTYPE=image/png:https://caribhousing.com/wp-content/uploads/2020/02/EC-3B_surface-plan.png
ORGANIZER;CN="Hoom Street":MAILTO:hoomstreet@marlinyard.org
END:VEVENT
BEGIN:VEVENT
DTSTART;TZID=UTC:20230114T080000
DTEND;TZID=UTC:20230114T153000
DTSTAMP:20260422T132902
CREATED:20200217T094921Z
LAST-MODIFIED:20220222T113814Z
UID:2386-1673683200-1673710200@caribhousing.com
SUMMARY:Workshop Orientation – Build Your Own Container House
DESCRIPTION:Learn To Build Your Own Container House \nWe give workshops in how to modify shipping containers into homes and or business accommodations with applicable construction techniques and sustainable building materials. The aim of this workshop is to let people experience the process of converting a shipping container unit into a house or business accommodation. The workshop is given in groups of max. 8 people. \nDay: Saturday\nLocation: Sint Maarten\nTime: 8.00am – 3.30pm\nOccupancy: 8 persons\nCosts: $145\,- p.p.\nLunch included. \nCurious about how a container house is made? Register for this workshop that we provide at our location on Sint Maarten. Group size max. 8 people.
URL:https://caribhousing.com/event/unique-exterior-designs-for-homes/
LOCATION:Hoom Street Workshop\, Stuifweg 68\, Oosterend\, Noord-Holland\, 1794HC\, Netherlands
CATEGORIES:Workshop St. Maarten
ATTACH;FMTTYPE=image/png:https://caribhousing.com/wp-content/uploads/2020/02/HS_container_image.png
ORGANIZER;CN="Hoom Street":MAILTO:hoomstreet@marlinyard.org
END:VEVENT
END:VCALENDAR